BEGIN:VCALENDAR
VERSION:2.0
PRODID:-//stjohn-church.org//eCatholic//EN
X-WR-TIMEZONE:LocalTZ
BEGIN:VTIMEZONE
TZID:LocalTZ
X-LIC-LOCATION:LocalTZ
BEGIN:DAYLIGHT
TZOFFSETFROM:-0500
TZOFFSETTO:-0400
TZNAME:LocalTZ
DTSTART:19700308T020000
RRULE:FREQ=YEARLY;BYMONTH=3;BYDAY=2SU
END:DAYLIGHT
BEGIN:STANDARD
TZOFFSETFROM:-0400
TZOFFSETTO:-0500
TZNAME:LocalTZ
DTSTART:19701101T020000
RRULE:FREQ=YEARLY;BYMONTH=11;BYDAY=1SU
END:STANDARD
END:VTIMEZONE
BEGIN:VEVENT
UID:2917268@stjohn-church.org
DTSTAMP:20260421T093226Z
DTSTART:20260426T090000
DTEND:20260426T100000
RRULE:FREQ=WEEKLY;BYDAY=SU
EXDATE:20260104T090000,20260405T090000
SUMMARY:Mass
END:VEVENT
BEGIN:VEVENT
UID:2917270@stjohn-church.org
DTSTAMP:20260421T093226Z
DTSTART:20260425T160000
DTEND:20260425T170000
RRULE:FREQ=WEEKLY;BYDAY=SA
EXDATE:20260404T160000
SUMMARY:Mass
END:VEVENT
BEGIN:VEVENT
UID:2917277@stjohn-church.org
DTSTAMP:20260421T093226Z
DTSTART:20260426T100000
DTEND:20260426T110000
RRULE:FREQ=WEEKLY;UNTIL=20260427;BYDAY=SU
EXDATE:20251130T100000,20251228T100000,20260104T100000,20260215T100000,202
 60329T100000,20260405T100000
SUMMARY:CCD Classes
END:VEVENT
BEGIN:VEVENT
UID:2917341@stjohn-church.org
DTSTAMP:20260421T093226Z
DTSTART:20260425T140000
DTEND:20260425T150000
RRULE:FREQ=WEEKLY;BYDAY=SA
EXDATE:20260404T140000
SUMMARY:Adoration
END:VEVENT
BEGIN:VEVENT
UID:2935994@stjohn-church.org
DTSTAMP:20260421T093226Z
DTSTART:20260503T100000
DTEND:20260503T110000
RRULE:FREQ=MONTHLY;BYDAY=SU;BYSETPOS=1
EXDATE:20260405T100000
SUMMARY:Coffee & Donuts
END:VEVENT
BEGIN:VEVENT
UID:2988263@stjohn-church.org
DTSTAMP:20260421T093226Z
DTSTART:20260425T143000
DTEND:20260425T153000
RRULE:FREQ=WEEKLY;BYDAY=SA
EXDATE:20260404T143000
SUMMARY:Penance
END:VEVENT
BEGIN:VEVENT
UID:2988267@stjohn-church.org
DTSTAMP:20260421T093226Z
DTSTART:20260424T090000
DTEND:20260424T100000
RRULE:FREQ=WEEKLY;BYDAY=FR
EXDATE:20260227T090000,20260403T090000
SUMMARY:Daily Mass
END:VEVENT
BEGIN:VEVENT
UID:2988268@stjohn-church.org
DTSTAMP:20260421T093226Z
DTSTART:20260423T120000
DTEND:20260423T130000
RRULE:FREQ=WEEKLY;BYDAY=TH
EXDATE:20260226T120000,20260402T120000
SUMMARY:Daily Mass
END:VEVENT
BEGIN:VEVENT
UID:2988274@stjohn-church.org
DTSTAMP:20260421T093226Z
DTSTART:20260421T090000
DTEND:20260421T100000
RRULE:FREQ=WEEKLY;BYDAY=TU
EXDATE:20260224T090000
SUMMARY:Daily Mass
END:VEVENT
BEGIN:VEVENT
UID:2988275@stjohn-church.org
DTSTAMP:20260421T093226Z
DTSTART:20260423T090000
DTEND:20260423T100000
RRULE:FREQ=WEEKLY;BYDAY=TH
EXDATE:20260402T090000
SUMMARY:Bible Study
END:VEVENT
BEGIN:VEVENT
UID:2988279@stjohn-church.org
DTSTAMP:20260421T093226Z
DTSTART:20260427T090000
DTEND:20260427T100000
RRULE:FREQ=WEEKLY;BYDAY=MO
SUMMARY:Daily Mass
END:VEVENT
BEGIN:VEVENT
UID:3067047@stjohn-church.org
DTSTAMP:20260421T093226Z
DTSTART:20260428T184500
DTEND:20260428T194500
SUMMARY:Parish Council
END:VEVENT
BEGIN:VEVENT
UID:3067052@stjohn-church.org
DTSTAMP:20260421T093226Z
DTSTART:20260423T183000
DTEND:20260423T193000
SUMMARY:Bible Study
END:VEVENT
END:VCALENDAR
